BEGIN:VCALENDAR
VERSION:2.0
PRODID:-//Studio 127 - ECPv6.15.20//NONSGML v1.0//EN
CALSCALE:GREGORIAN
METHOD:PUBLISH
X-WR-CALNAME:Studio 127
X-ORIGINAL-URL:https://mystudio127.com
X-WR-CALDESC:Events for Studio 127
REFRESH-INTERVAL;VALUE=DURATION:PT1H
X-Robots-Tag:noindex
X-PUBLISHED-TTL:PT1H
BEGIN:VTIMEZONE
TZID:America/Chicago
BEGIN:DAYLIGHT
TZOFFSETFROM:-0600
TZOFFSETTO:-0500
TZNAME:CDT
DTSTART:20230312T080000
END:DAYLIGHT
BEGIN:STANDARD
TZOFFSETFROM:-0500
TZOFFSETTO:-0600
TZNAME:CST
DTSTART:20231105T070000
END:STANDARD
BEGIN:DAYLIGHT
TZOFFSETFROM:-0600
TZOFFSETTO:-0500
TZNAME:CDT
DTSTART:20240310T080000
END:DAYLIGHT
BEGIN:STANDARD
TZOFFSETFROM:-0500
TZOFFSETTO:-0600
TZNAME:CST
DTSTART:20241103T070000
END:STANDARD
BEGIN:DAYLIGHT
TZOFFSETFROM:-0600
TZOFFSETTO:-0500
TZNAME:CDT
DTSTART:20250309T080000
END:DAYLIGHT
BEGIN:STANDARD
TZOFFSETFROM:-0500
TZOFFSETTO:-0600
TZNAME:CST
DTSTART:20251102T070000
END:STANDARD
BEGIN:DAYLIGHT
TZOFFSETFROM:-0600
TZOFFSETTO:-0500
TZNAME:CDT
DTSTART:20260308T080000
END:DAYLIGHT
BEGIN:STANDARD
TZOFFSETFROM:-0500
TZOFFSETTO:-0600
TZNAME:CST
DTSTART:20261101T070000
END:STANDARD
BEGIN:DAYLIGHT
TZOFFSETFROM:-0600
TZOFFSETTO:-0500
TZNAME:CDT
DTSTART:20270314T080000
END:DAYLIGHT
BEGIN:STANDARD
TZOFFSETFROM:-0500
TZOFFSETTO:-0600
TZNAME:CST
DTSTART:20271107T070000
END:STANDARD
END:VTIMEZONE
BEGIN:VEVENT
DTSTART;TZID=America/Chicago:20260411T090000
DTEND;TZID=America/Chicago:20260411T160000
DTSTAMP:20260419T231428
CREATED:20260311T222753Z
LAST-MODIFIED:20260311T222753Z
UID:10000313-1775898000-1775923200@mystudio127.com
SUMMARY:Celebrate Your Creativity Mini Retreat in Florence
DESCRIPTION:Spend the whole day or just half the day celebrating the joy of making! Junk Journals in the morning\, gel plate printing in the afternoon! \n\n\n\n\nJoin us on Saturday\, April 11 at the Kennedy Douglas Center for the Arts in Florence to celebrate 50 years of arts! And what better way to celebrate than by creating! \nThis retreat is actually two workshops\, one in the morning and one if the afternoon. Do one or both\, whatever your schedule allows! \nJUNK JOURNAL MAKING: 9:00am – 12:00pm \nWe’ll be taking old papers\, book pages\, painted and stained pages and putting them together to make a journal. I’ll show you a simple way to sew the books into the covers\, and then we’ll have time to start filling it. You are welcome to bring any papers you have been “stockpiling” (we don’t use the word “hoarding”). This is a fun way of creating a journal that has character built into every page! \nGEL PLATE PRINTING & OPEN ART JOURNALING: 1:00pm – 4:00pm \nIf you’ve been wanting to try gel plate printing but are not sure how to start\, this is the perfect class. And if you are already familiar and just need time and space to make your prints\, then this is also the perfect class! I’ll have gel plates\, bryers\, stencils\, stamps and loads of paper to help you scratch that creative itch! \nAnd if you just want to bring an art journal and fill some pages with all the goodies I’ll have then you can do that\, too! \nYou can register for just the morning or just the afternoon\, or the whole day. There will be an hour in between sessions to grab lunch. {Lunch is not provided\, but we can place an order with a close by restaurant and have it delivered for those who want to.} \nBring a friend and save $20! There is a ticket option to buy two tickets with a $20 discount!
URL:https://mystudio127.com/event/celebrate-your-creativity-mini-retreat-in-florence/
LOCATION:Kennedy Douglas Arts Center\, 217 E Tuscaloosa St.\, Florence\, 35630\, United States
CATEGORIES:Out of Studio Classes,Retreat
ATTACH;FMTTYPE=image/jpeg:https://mystudio127.com/wp-content/uploads/2026/03/IMG_3576-scaled.jpeg
END:VEVENT
BEGIN:VEVENT
DTSTART;VALUE=DATE:20250404
DTEND;VALUE=DATE:20250407
DTSTAMP:20260419T231428
CREATED:20250108T122423Z
LAST-MODIFIED:20250108T122423Z
UID:10000219-1743724800-1743983999@mystudio127.com
SUMMARY:Cultivate Your Creativity
DESCRIPTION:How do you stay creatively motivated? How do you keep from feeling stale or stuck? This retreat takes place in Florence\, Alabama\, and is designed to help you find ways to continue to grow as a creative person. You’ll learn tried and true practices…and more importantly how to modify them to work for you. But this is not just theory or lectures\, it’s a hands-on working retreat. When you leave you’ll have a plan and resources to keep you thriving. \nFriday\,April 4 from 4-6pm with packet pickup\, meet and greet\, in a “come and go” setting. Attendance to this is not necessary\, it’s just an opportunity to get situated. For those who want a jump start\, you can make your own name badge! If you can’t make it Friday\, you’ll have the opportunity to make your name tag Saturday morning. \nOur retreat space is the entire first floor of a beautiful old home that is next to the main gallery and part of the Kennedy Douglas Art Center in historic downtown Florence\, Alabama. It has a lovely big veranda that we will make use of if the weather is warm enough\, and across from a park. \nFood:\nBreakfast Muffins\, fruit\, coffee\, tea\, and juice Saturday and Sunday morning\nLunch is provided at the retreat on Saturday\nDinner is on your own\, but we’ll have a table at Rosies (less than 5 minute walk) for those who want to join on Saturday night\nSnacks will be available in the kitchen through out the day\nCoffee (some might ask\, “Is it its own category?” and yes\, yes it is.) Coffee will be available all weekend. \nSaturday\, April 5\, 9am-5:30pmwe open up at 8:00 for anyone who didn’t get their packets on Friday. Grab a cup of coffee or tea\, find a seat\, and make your name tag if you have not already. We’ll start promptly at 9am. Here’s the schedule: \n\nClass time: 9:00am-10:30am\nBreak10:30am-10:45am\nClass time: 10:45am-12:15pm\nLunch: 12:15-1:30pm\nBreakout session: 1:30pm-2:15pm\nBreak 2:15pm-2:30pm\nClass time:2:30-4:00pm\nField Trip to Thrift/Vintage store: 4-5:30pm\nMeet for dinner at Rosies at 6:00pm (on your own and optional)\n\nSunday\, April 6\, 9am-12pm \n\nBreakout session 9:00am-10:30\nBreak 10:30-10:45\nClass time 10:45-12:15\nFinish up 12:15-12:30pm\nOptional group tour of Kennedy Douglas Art Center Gallery (next door) 1:00pm\n\nYour packet includes: \n\nArt journal\nNotebook\nCreativity Bundle\nCertificate for one free “Open Art Journaling Studio” in 2025\nArt Journaling Primer\nPaper Pack\n\nPLUS We’ll have SUPPLY SWAP...so bring a bag of materials you would like to swap. We’ll have a table set up throughout the weekend for you to leave what you bring\, and help yourself to what someone else has brought. Anything left over will be donated to the Kennedy Douglas Art Center for their classes. \nTickets\nEarly bird pricing ends on March 1. I am also offering a discounted rate for two tickets\, so you and a friend can both save! \nLodging\nIf you are coming in from out of town\, there are several Airbnb’s close to the Kennedy Douglas Center\, 1\, 2\, & 3 bedrooms at very reasonable rates. Perfect for the Bring a Friend tickets! If you are buying one ticket\, and interested in sharing a house with someone let me know.
URL:https://mystudio127.com/event/cultivate-your-creativity/
LOCATION:Kennedy Douglas Arts Center\, 217 E Tuscaloosa St.\, Florence\, 35630\, United States
CATEGORIES:Art in the Wild,Out of Studio Classes
ATTACH;FMTTYPE=image/jpeg:https://mystudio127.com/wp-content/uploads/2025/01/Square-event-copy.jpg
END:VEVENT
BEGIN:VEVENT
DTSTART;TZID=America/Chicago:20241019T090000
DTEND;TZID=America/Chicago:20241019T120000
DTSTAMP:20260419T231428
CREATED:20240925T185146Z
LAST-MODIFIED:20240925T185146Z
UID:10000153-1729328400-1729339200@mystudio127.com
SUMMARY:Florence Open Art Journaling and Supply Swap
DESCRIPTION:If you have a journal you’re working in\, bring it with you…I’ll have paints and lots of materials to use\, and if you don’t have an art journal\, I also have starter kits here. \nThere is no instruction\, just time to work on our journals! PLUS – a SUPPLY SWAP! Bring that stuff you keep meaning to get rid of\, and take home some new-to-you stuff! \nCoffee and tea will be ready for you\, and lots of great conversation\, so bring a friend and spend the morning in the beautiful Kennedy Douglas Center for the Arts in Florence\, AL!
URL:https://mystudio127.com/event/florence-open-art-journaling-and-supply-swap/
LOCATION:217 E Tuscaloosa St.\, Florence\, 35630\, United States
CATEGORIES:Out of Studio Classes
ATTACH;FMTTYPE=image/jpeg:https://mystudio127.com/wp-content/uploads/2024/09/IMG_3171-scaled.jpeg
END:VEVENT
BEGIN:VEVENT
DTSTART;TZID=America/Chicago:20240824T130000
DTEND;TZID=America/Chicago:20240824T150000
DTSTAMP:20260419T231428
CREATED:20240725T122159Z
LAST-MODIFIED:20240725T123723Z
UID:10000110-1724504400-1724511600@mystudio127.com
SUMMARY:Restoration Through Creativity
DESCRIPTION:Restoration: the act of restoring; renewal\, revival\, or reestablishment.* \nThe benefits of creative activities are well recorded\, and not disputed. Art journaling is a a form of art that is very personal\, highly engaging\, and can be beneficial in many ways. An art journal can be a place to record thoughts\, ideas\, emotions\, memories or lessons learned. It can be a place to work through fear\, grief\, or a creative block. An art journal can be a place to explore new new ideas or places or new creative territory. \nThis workshop will introduce you to the practice of art journaling. You’ll be supplied with a new journal made especially for this purpose\, materials to use in your journal\, a primer\, writing prompts\, and instruction on some simple techniques to get your started. You’ll be able to take some materials home to continue. \nNo artistic experience is needed\, it doesn’t matter if you have never picked up a paint brush or if you are a regular crafter. Art Journaling is a truly unique form of expression that each person makes. their own. \nThis workshop is being presented at  Kennedy-Douglas Center for the Arts as part of their “Healing Through Art” programming. \n  \n  \nDictionary.com\, https://www.dictionary.com/browse/restoration
URL:https://mystudio127.com/event/restoration-through-creativity/
LOCATION:Kennedy Douglas Arts Center\, 217 E Tuscaloosa St.\, Florence\, 35630\, United States
CATEGORIES:Art in the Wild,Out of Studio Classes
ATTACH;FMTTYPE=image/jpeg:https://mystudio127.com/wp-content/uploads/2024/07/art-journaling-glue-scaled.jpg
END:VEVENT
END:VCALENDAR